BEGIN:VCALENDAR
VERSION:2.0
PRODID:-//Ortsgemeinde Krautscheid - ECPv6.15.20//NONSGML v1.0//EN
CALSCALE:GREGORIAN
METHOD:PUBLISH
X-ORIGINAL-URL:https://krautscheid.com
X-WR-CALDESC:Veranstaltungen für Ortsgemeinde Krautscheid
REFRESH-INTERVAL;VALUE=DURATION:PT1H
X-Robots-Tag:noindex
X-PUBLISHED-TTL:PT1H
BEGIN:VTIMEZONE
TZID:UTC
BEGIN:STANDARD
TZOFFSETFROM:+0000
TZOFFSETTO:+0000
TZNAME:UTC
DTSTART:20250101T000000
END:STANDARD
END:VTIMEZONE
BEGIN:VEVENT
DTSTART;TZID=UTC:20260418T093000
DTEND;TZID=UTC:20260418T140000
DTSTAMP:20260419T141553
CREATED:20260416T103539Z
LAST-MODIFIED:20260416T104230Z
UID:1565-1776504600-1776520800@krautscheid.com
SUMMARY:Aktion saubere Landschaft
DESCRIPTION:Am Samstag 18.04.2026 un 9:30 Uhr beim Bürgerhaus in Ringhuscheid\, geplante Arbeiten: \n\nAbfahren der Wirtschaftswege durch mehrere Gruppen\nReinigung der Bushaltestellen Krautscheid und Kreuzung Berkoth\nAufräumen in der Garage der Gemeinde im Bürgerhaus\nAufräumen des Gemeindeschuppens in Krautscheid\n Eingeladen sind alle Bürger der Gemeinde\, besonders die Kinder und Jugendlichen.\nAnschließen wird ein Imbiss und Getränke im Bürgerhaus gereicht.\nWir freuen uns auf eine zahlreiche Beteiligug und bedanken uns im Voraus im Namen des Gemeinderats und Ortsbürgermeister Norbert Antony
URL:https://krautscheid.com/veranstaltung/aktion-saubere-landschaft/
END:VEVENT
END:VCALENDAR