BEGIN:VCALENDAR
VERSION:2.0
PRODID:-//Ortsgemeinde Krautscheid - ECPv6.15.20//NONSGML v1.0//EN
CALSCALE:GREGORIAN
METHOD:PUBLISH
X-ORIGINAL-URL:https://krautscheid.com
X-WR-CALDESC:Veranstaltungen für Ortsgemeinde Krautscheid
REFRESH-INTERVAL;VALUE=DURATION:PT1H
X-Robots-Tag:noindex
X-PUBLISHED-TTL:PT1H
BEGIN:VTIMEZONE
TZID:UTC
BEGIN:STANDARD
TZOFFSETFROM:+0000
TZOFFSETTO:+0000
TZNAME:UTC
DTSTART:20250101T000000
END:STANDARD
END:VTIMEZONE
BEGIN:VEVENT
DTSTART;VALUE=DATE:20260322
DTEND;VALUE=DATE:20260323
DTSTAMP:20260419T154732
CREATED:20260130T091139Z
LAST-MODIFIED:20260130T091139Z
UID:1486-1774137600-1774223999@krautscheid.com
SUMMARY:Landtagswahl
DESCRIPTION:Landtagswahl
URL:https://krautscheid.com/veranstaltung/landtagswahl/
END:VEVENT
END:VCALENDAR