BEGIN:VCALENDAR
VERSION:2.0
PRODID:-//Ortsgemeinde Krautscheid - ECPv6.15.20//NONSGML v1.0//EN
CALSCALE:GREGORIAN
METHOD:PUBLISH
X-WR-CALNAME:Ortsgemeinde Krautscheid
X-ORIGINAL-URL:https://krautscheid.com
X-WR-CALDESC:Veranstaltungen für Ortsgemeinde Krautscheid
REFRESH-INTERVAL;VALUE=DURATION:PT1H
X-Robots-Tag:noindex
X-PUBLISHED-TTL:PT1H
BEGIN:VTIMEZONE
TZID:UTC
BEGIN:STANDARD
TZOFFSETFROM:+0000
TZOFFSETTO:+0000
TZNAME:UTC
DTSTART:20250101T000000
END:STANDARD
END:VTIMEZONE
BEGIN:VEVENT
DTSTART;TZID=UTC:20260220T140000
DTEND;TZID=UTC:20260220T200000
DTSTAMP:20260419T171644
CREATED:20260204T134542Z
LAST-MODIFIED:20260204T163855Z
UID:1512-1771596000-1771617600@krautscheid.com
SUMMARY:Abschlussfest Flurbereinigung
DESCRIPTION:
URL:https://krautscheid.com/veranstaltung/abschlussfest-flurbereinigung/
LOCATION:Islekhöhe\, Krautscheid
END:VEVENT
END:VCALENDAR